BEGIN:VCALENDAR
VERSION:2.0
PRODID:-//Duo Symphonique - ECPv6.15.18//NONSGML v1.0//EN
CALSCALE:GREGORIAN
METHOD:PUBLISH
X-ORIGINAL-URL:https://www.duo-symphonique.com
X-WR-CALDESC:Évènements pour Duo Symphonique
REFRESH-INTERVAL;VALUE=DURATION:PT1H
X-Robots-Tag:noindex
X-PUBLISHED-TTL:PT1H
BEGIN:VTIMEZONE
TZID:Europe/Zurich
BEGIN:DAYLIGHT
TZOFFSETFROM:+0100
TZOFFSETTO:+0200
TZNAME:CEST
DTSTART:20240331T010000
END:DAYLIGHT
BEGIN:STANDARD
TZOFFSETFROM:+0200
TZOFFSETTO:+0100
TZNAME:CET
DTSTART:20241027T010000
END:STANDARD
BEGIN:DAYLIGHT
TZOFFSETFROM:+0100
TZOFFSETTO:+0200
TZNAME:CEST
DTSTART:20250330T010000
END:DAYLIGHT
BEGIN:STANDARD
TZOFFSETFROM:+0200
TZOFFSETTO:+0100
TZNAME:CET
DTSTART:20251026T010000
END:STANDARD
BEGIN:DAYLIGHT
TZOFFSETFROM:+0100
TZOFFSETTO:+0200
TZNAME:CEST
DTSTART:20260329T010000
END:DAYLIGHT
BEGIN:STANDARD
TZOFFSETFROM:+0200
TZOFFSETTO:+0100
TZNAME:CET
DTSTART:20261025T010000
END:STANDARD
END:VTIMEZONE
BEGIN:VEVENT
DTSTART;TZID=Europe/Zurich:20251214T170000
DTEND;TZID=Europe/Zurich:20251214T183000
DTSTAMP:20260421T153458
CREATED:20241226T133906Z
LAST-MODIFIED:20251116T130453Z
UID:29293-1765731600-1765737000@www.duo-symphonique.com
SUMMARY:Concert OVS Mahler Schoenberg Beethoven - DS 10ème anniversaire\, Vevey Del Castillo
DESCRIPTION:Concert OVS – DS 10ème anniversaire à la salle Del Castillo de Vevey \nMahler Adagietto \nSchoenberg Verklärte Nacht \nBeethoven Cavatina \nOrchestre OVS – Orchestre des Variations Symphoniques en formation de chambre \nLuc Baghdassarian\, Chef d’Orchestre \nOuverture début novembre 2025 – Billetterie Eventfrog \nBillets de CHF 30.- à 45.- / réd. enfants\, étudiants de CHF 20.- à 35.-:  https://eventfrog.ch/mahlerschoenbergbeethoven-vevey \nLieu: 1800 Vevey – Salle Del Castillo\, Place du Marché
URL:https://www.duo-symphonique.com/event/concert-orchestre-ovs-ds-10eme-anniversaire-vevey-del-castillo/
LOCATION:Vevey\, salle Del Castillo
ATTACH;FMTTYPE=application/pdf:https://www.duo-symphonique.com/wp-content/uploads/2024/12/Flyer-Concert-Mahler-Schoenberg-Beethoven-14.12.25.pdf
ORGANIZER;CN="Duo Symphonique":MAILTO:info@duo-symphonique.com
END:VEVENT
END:VCALENDAR