BEGIN:VCALENDAR
VERSION:2.0
PRODID:-//Duo Symphonique - ECPv6.15.18//NONSGML v1.0//EN
CALSCALE:GREGORIAN
METHOD:PUBLISH
X-ORIGINAL-URL:https://www.duo-symphonique.com
X-WR-CALDESC:Évènements pour Duo Symphonique
REFRESH-INTERVAL;VALUE=DURATION:PT1H
X-Robots-Tag:noindex
X-PUBLISHED-TTL:PT1H
BEGIN:VTIMEZONE
TZID:Europe/Zurich
BEGIN:DAYLIGHT
TZOFFSETFROM:+0100
TZOFFSETTO:+0200
TZNAME:CEST
DTSTART:20240331T010000
END:DAYLIGHT
BEGIN:STANDARD
TZOFFSETFROM:+0200
TZOFFSETTO:+0100
TZNAME:CET
DTSTART:20241027T010000
END:STANDARD
BEGIN:DAYLIGHT
TZOFFSETFROM:+0100
TZOFFSETTO:+0200
TZNAME:CEST
DTSTART:20250330T010000
END:DAYLIGHT
BEGIN:STANDARD
TZOFFSETFROM:+0200
TZOFFSETTO:+0100
TZNAME:CET
DTSTART:20251026T010000
END:STANDARD
BEGIN:DAYLIGHT
TZOFFSETFROM:+0100
TZOFFSETTO:+0200
TZNAME:CEST
DTSTART:20260329T010000
END:DAYLIGHT
BEGIN:STANDARD
TZOFFSETFROM:+0200
TZOFFSETTO:+0100
TZNAME:CET
DTSTART:20261025T010000
END:STANDARD
END:VTIMEZONE
BEGIN:VEVENT
DTSTART;TZID=Europe/Zurich:20251004T191500
DTEND;TZID=Europe/Zurich:20251004T210000
DTSTAMP:20260421T122627
CREATED:20240519T180221Z
LAST-MODIFIED:20250707T104158Z
UID:29221-1759605300-1759611600@www.duo-symphonique.com
SUMMARY:Shoujounian & Mozart - Choeurs & Orchestre OVS - Cathédrale St-Pierre\, Genève
DESCRIPTION:Shoujounian 5 récitatifs pour orchestre à cordes – Création 2025 \nMozart Requiem KV 626 en ré mineur pour Choeur & Orchestre \nOrchestre des Variations Symphoniques – OVS \nSolistes: Sofia Rauss\, Valérie Pellegrini\, Baptiste Jondeau\, Patrice Berger \nChoeur Symphonique de Vevey & Choeur A Cappella d’Yverdon \nDirection: Luc Baghdassarian \nCollecte \nLieu: Cathédrale St-Pierre à Genève – Cr. de St-Pierre\, 1204 Genève
URL:https://www.duo-symphonique.com/event/concert-ovs-ugab/
LOCATION:Genève
ATTACH;FMTTYPE=image/jpeg:https://www.duo-symphonique.com/wp-content/uploads/2024/05/DSC_0005-scaled.jpg
END:VEVENT
BEGIN:VEVENT
DTSTART;TZID=Europe/Zurich:20251005T170000
DTEND;TZID=Europe/Zurich:20251005T183000
DTSTAMP:20260421T122627
CREATED:20250706T173928Z
LAST-MODIFIED:20250707T104034Z
UID:29332-1759683600-1759689000@www.duo-symphonique.com
SUMMARY:Shoujounian & Mozart Choeur CSV & Orchestre OVS - Eglise St-Martin de Vevey
DESCRIPTION:Shoujounian 5 récitatifs pour orchestre à cordes \nMozart Requiem KV 626 en ré mineur pour Choeur & Orchestre \nOrchestre des Variations Symphoniques – OVS \nSolistes: Daniela Stoll\, Valérie Pellegrini\, Baptiste Jondeau\, Patrice Berger \nChoeur Symphonique de Vevey \nDirection: Luc Baghdassarian \nBilletterie Eventfrog \nLieu: Boulevard St-Martin\, 1800 Vevey
URL:https://www.duo-symphonique.com/event/requiem-de-mozart-a-leglise-st-martin-de-vevey/
LOCATION:Vevey\, Eglise St-Martin
ATTACH;FMTTYPE=image/jpeg:https://www.duo-symphonique.com/wp-content/uploads/2025/07/P_CHOEUR_SYMPHONIQUE_VEVEY_2022_0140A.jpg
END:VEVENT
END:VCALENDAR