BEGIN:VCALENDAR
VERSION:2.0
PRODID:-//Duo Symphonique - ECPv6.15.18//NONSGML v1.0//EN
CALSCALE:GREGORIAN
METHOD:PUBLISH
X-WR-CALNAME:Duo Symphonique
X-ORIGINAL-URL:https://www.duo-symphonique.com
X-WR-CALDESC:Évènements pour Duo Symphonique
REFRESH-INTERVAL;VALUE=DURATION:PT1H
X-Robots-Tag:noindex
X-PUBLISHED-TTL:PT1H
BEGIN:VTIMEZONE
TZID:Europe/Zurich
BEGIN:DAYLIGHT
TZOFFSETFROM:+0100
TZOFFSETTO:+0200
TZNAME:CEST
DTSTART:20240331T010000
END:DAYLIGHT
BEGIN:STANDARD
TZOFFSETFROM:+0200
TZOFFSETTO:+0100
TZNAME:CET
DTSTART:20241027T010000
END:STANDARD
BEGIN:DAYLIGHT
TZOFFSETFROM:+0100
TZOFFSETTO:+0200
TZNAME:CEST
DTSTART:20250330T010000
END:DAYLIGHT
BEGIN:STANDARD
TZOFFSETFROM:+0200
TZOFFSETTO:+0100
TZNAME:CET
DTSTART:20251026T010000
END:STANDARD
BEGIN:DAYLIGHT
TZOFFSETFROM:+0100
TZOFFSETTO:+0200
TZNAME:CEST
DTSTART:20260329T010000
END:DAYLIGHT
BEGIN:STANDARD
TZOFFSETFROM:+0200
TZOFFSETTO:+0100
TZNAME:CET
DTSTART:20261025T010000
END:STANDARD
END:VTIMEZONE
BEGIN:VEVENT
DTSTART;TZID=Europe/Zurich:20250928T170000
DTEND;TZID=Europe/Zurich:20250928T183000
DTSTAMP:20260421T111634
CREATED:20250706T190922Z
LAST-MODIFIED:20250804T161400Z
UID:29353-1759078800-1759084200@www.duo-symphonique.com
SUMMARY:"Fables & Musique" à Crêt-Bérard\, Puidoux
DESCRIPTION:Venez vivre « Fables & Musique » une heure poétique & pétillante avec les célèbres Fables de Jean de La Fontaine récitées par la malicieuse Isabelle von Burg et saupoudrées de subtils moments musicaux interprétés par le DS Trio dimanche 28 septembre à 17h à Crêt-Bérard à Puidoux ! \nProgramme: \nFables de Jean de La Fontaine avec projection d’images \nRécitante: Isabelle von Burg \n  \nPerles musicales par le DS Trio: \nVioloniste\, Altiste & Pianiste : Florence von Burg \nAltiste & Violoniste: Dor Sperber \nPianiste & Chef d’Orchestre: Luc Baghdassarian \n  \nBilletterie Eventfrog: https://eventfrog.ch/fr/p/concert/autres-genres-musicaux/fables-musique-7351637104303077304.html \nPlein tarif CHF 35.- / offre Early Bird à CHF 30.- jusqu’au 27.08.25 via Eventfrog \nMembres Soutien DS 2025 CHF 25.- * / offre Early Bird Membres Soutien DS 2025 à CHF 20.- * jusqu’au 27.08.25 uniquement sur demande & réservation via e-mail ou message. \nBillets enfants CHF 20.- / Etudiants (-> 25 ans) CHF 25.- à retirer le dimanche 28 septembre 2025 à la caisse dès 16h30. \nOffre Early Bird à CHF 15.- pour les enfants et à CHF 20.- pour les étudiants (-> 25 ans)\, uniquement sur demande & réservation via e-mail ou message jusqu’au 27.08.2025  \n  \n* Devenez Membres DS 2025 et profitez des avantages DS ou/et réduction de CHF 10.- sur nos billets de concerts de musique de chambre et spectacles sur demande & réservation via e-mail ou message. \nContact : https://www.duo-symphonique.com/contact/ \nLieu: 1070 Puidoux – Fondation Crêt-Bérard\, ch. de la Chapelle 19 a \n 
URL:https://www.duo-symphonique.com/event/29353/
ATTACH;FMTTYPE=image/jpeg:https://www.duo-symphonique.com/wp-content/uploads/2025/07/45244e86-ba41-45a3-b64f-813c15334284.jpg
END:VEVENT
END:VCALENDAR