BEGIN:VCALENDAR
VERSION:2.0
PRODID:-//Duo Symphonique - ECPv6.15.18//NONSGML v1.0//EN
CALSCALE:GREGORIAN
METHOD:PUBLISH
X-ORIGINAL-URL:https://www.duo-symphonique.com
X-WR-CALDESC:Évènements pour Duo Symphonique
REFRESH-INTERVAL;VALUE=DURATION:PT1H
X-Robots-Tag:noindex
X-PUBLISHED-TTL:PT1H
BEGIN:VTIMEZONE
TZID:Europe/Zurich
BEGIN:DAYLIGHT
TZOFFSETFROM:+0100
TZOFFSETTO:+0200
TZNAME:CEST
DTSTART:20230326T010000
END:DAYLIGHT
BEGIN:STANDARD
TZOFFSETFROM:+0200
TZOFFSETTO:+0100
TZNAME:CET
DTSTART:20231029T010000
END:STANDARD
BEGIN:DAYLIGHT
TZOFFSETFROM:+0100
TZOFFSETTO:+0200
TZNAME:CEST
DTSTART:20240331T010000
END:DAYLIGHT
BEGIN:STANDARD
TZOFFSETFROM:+0200
TZOFFSETTO:+0100
TZNAME:CET
DTSTART:20241027T010000
END:STANDARD
BEGIN:DAYLIGHT
TZOFFSETFROM:+0100
TZOFFSETTO:+0200
TZNAME:CEST
DTSTART:20250330T010000
END:DAYLIGHT
BEGIN:STANDARD
TZOFFSETFROM:+0200
TZOFFSETTO:+0100
TZNAME:CET
DTSTART:20251026T010000
END:STANDARD
END:VTIMEZONE
BEGIN:VEVENT
DTSTART;TZID=Europe/Zurich:20241208T170000
DTEND;TZID=Europe/Zurich:20241208T183000
DTSTAMP:20260421T204425
CREATED:20240925T172017Z
LAST-MODIFIED:20240925T172304Z
UID:29278-1733677200-1733682600@www.duo-symphonique.com
SUMMARY:Concert Duo von Burg Sperber - violon & alto\, Crans-près-Céligny
DESCRIPTION:Concert du DS Duo von Burg Sperber – violon & alto – Crans-près-Céligny \nFlorence von Burg\, Violoniste \nDor Sperber\, Altiste \n  \nCollecte CHF 25-30.- (prix indicatif) \nLieu: 1299 Crans-près-Céligny – Temple\, Place de l’Eglise
URL:https://www.duo-symphonique.com/event/concert-duo-von-burg-sperber-crans-pres-celigny/
ATTACH;FMTTYPE=image/jpeg:https://www.duo-symphonique.com/wp-content/uploads/2024/03/Photo-FleDor-.jpg
END:VEVENT
BEGIN:VEVENT
DTSTART;TZID=Europe/Zurich:20241215T170000
DTEND;TZID=Europe/Zurich:20241215T183000
DTSTAMP:20260421T204425
CREATED:20240519T163146Z
LAST-MODIFIED:20240729T163810Z
UID:29197-1734282000-1734287400@www.duo-symphonique.com
SUMMARY:DS Concert Conte musical - Crêt-Bérard\, Puidoux
DESCRIPTION:Conte musical : \n  \nIsabelle von Burg\, Narratrice \nFlorence von Burg\, Violoniste \nDor Sperber\, Altiste \nLuc Baghdassarian\, Pianiste \n  \nCollecte CHF 25-30.- (prix indicatif) \nLieu: 1070 Puidoux – Fondation Crêt-Bérard\, Ch. de la Chapelle 19 a
URL:https://www.duo-symphonique.com/event/concert-ds-trio-cret-berard-puidoux/
LOCATION:Puidoux\, Crêt-Bérard\, Chemin de la Chapelle 19 a\, Puidoux\, 1070\, Suisse
ATTACH;FMTTYPE=image/jpeg:https://www.duo-symphonique.com/wp-content/uploads/2024/05/image00009-copie-scaled.jpeg
END:VEVENT
END:VCALENDAR